BEGIN:VCALENDAR
VERSION:2.0
PRODID:-//Deutsch Indische Gesellschaft e.V. - ECPv6.15.20//NONSGML v1.0//EN
CALSCALE:GREGORIAN
METHOD:PUBLISH
X-ORIGINAL-URL:https://digkarlsruhe.de
X-WR-CALDESC:Events for Deutsch Indische Gesellschaft e.V.
REFRESH-INTERVAL;VALUE=DURATION:PT1H
X-Robots-Tag:noindex
X-PUBLISHED-TTL:PT1H
BEGIN:VTIMEZONE
TZID:UTC
BEGIN:STANDARD
TZOFFSETFROM:+0000
TZOFFSETTO:+0000
TZNAME:UTC
DTSTART:20250101T000000
END:STANDARD
END:VTIMEZONE
BEGIN:VEVENT
DTSTART;TZID=UTC:20260425T153000
DTEND;TZID=UTC:20260425T200000
DTSTAMP:20260421T232850
CREATED:20260108T181204Z
LAST-MODIFIED:20260108T181204Z
UID:1422-1777131000-1777147200@digkarlsruhe.de
SUMMARY:Food Festival / India Day
DESCRIPTION:
URL:https://digkarlsruhe.de/event/food-festival-india-day/
LOCATION:European School Karlsruhe\, Albert-Schweitzer-Straße 1\, Karlsruhe\, 76139\, Germany
END:VEVENT
END:VCALENDAR