BEGIN:VCALENDAR
VERSION:2.0
PRODID:-//Deutsch Indische Gesellschaft e.V. - ECPv6.15.20//NONSGML v1.0//EN
CALSCALE:GREGORIAN
METHOD:PUBLISH
X-WR-CALNAME:Deutsch Indische Gesellschaft e.V.
X-ORIGINAL-URL:https://digkarlsruhe.de
X-WR-CALDESC:Events for Deutsch Indische Gesellschaft e.V.
REFRESH-INTERVAL;VALUE=DURATION:PT1H
X-Robots-Tag:noindex
X-PUBLISHED-TTL:PT1H
BEGIN:VTIMEZONE
TZID:UTC
BEGIN:STANDARD
TZOFFSETFROM:+0000
TZOFFSETTO:+0000
TZNAME:UTC
DTSTART:20220101T000000
END:STANDARD
END:VTIMEZONE
BEGIN:VEVENT
DTSTART;TZID=UTC:20231014T170000
DTEND;TZID=UTC:20231014T210000
DTSTAMP:20260425T130933
CREATED:20230322T180318Z
LAST-MODIFIED:20230824T161719Z
UID:776-1697302800-1697317200@digkarlsruhe.de
SUMMARY:Navaratri Festival
DESCRIPTION:Anlässlich von Navaratri\, lasst uns zusammenkommen\, Garba/Dandiya tanzen\, leckeres Essen genießen und zu einem unvergesslichen Abend beitragen! \nTickets:\nDIG Mitglieder / Schüler/Studenten – 10€\nNichtmitglieder – 12€\nKinder bis 6 Jahren – Frei \nFür Reservierungen\, schreiben Sie an digkarlsruhe@gmx.de
URL:https://digkarlsruhe.de/event/navaratri-festival/
LOCATION:Gemeindezentrum St. Michael Pfarrsaal\, Geschwister-Schollstr. 2\, Karlsruhe\, 76135
CATEGORIES:Events
END:VEVENT
BEGIN:VEVENT
DTSTART;VALUE=DATE:20230721
DTEND;VALUE=DATE:20230724
DTSTAMP:20260425T130933
CREATED:20230421T091807Z
LAST-MODIFIED:20230509T131057Z
UID:1015-1689897600-1690156799@digkarlsruhe.de
SUMMARY:India Summer Days
DESCRIPTION:Indien hautnah erleben… \n \nIndische Kultur bei Das Fest 2023 erleben \nWir präsentieren Euch vom 21. bis 23. Juli 2023 im Rahmen von Süddeutschlands größtem Familienfestival DAS FEST die indische Kultur in Form eines indischen Dorfes auf dem Gelände des Aktiv-Spielplatzes in der Günther-Klotz-Anlage. Im Mittelpunkt stehen erneut Kultur\, Kulinarisches\, Yoga sowie zahlreiche Informationsangebote.\nDie India Summer Days finden 2023 unter der Schirmherrschaft von Winfried Kretschmann\, Ministerpräsident des Landes Baden-Württemberg\, statt! \nEINTRITT FREI !\nOrt: Günther-Klotz-Anlage \, Karlsruhe
URL:https://digkarlsruhe.de/event/india-summer-days-2/
LOCATION:Günther-Klotz-Anlage\, Karlsruhe\, 76135
END:VEVENT
BEGIN:VEVENT
DTSTART;TZID=UTC:20230621T183000
DTEND;TZID=UTC:20230621T194500
DTSTAMP:20260425T130933
CREATED:20230618T185141Z
LAST-MODIFIED:20230618T185325Z
UID:1162-1687372200-1687376700@digkarlsruhe.de
SUMMARY:Online Yoga Workshop - Teil 2
DESCRIPTION:geführt von Fr. Monica Geeta Sperling\nEintritt Frei ! \nFür Zoom Link & Anmeldungen: digkarlsruhe@gmx.de
URL:https://digkarlsruhe.de/event/online-yoga-workshop-2/
LOCATION:Online
END:VEVENT
BEGIN:VEVENT
DTSTART;TZID=UTC:20230617T090000
DTEND;TZID=UTC:20230617T101500
DTSTAMP:20260425T130933
CREATED:20230322T172605Z
LAST-MODIFIED:20230618T181146Z
UID:759-1686992400-1686996900@digkarlsruhe.de
SUMMARY:Online Yoga Workshop
DESCRIPTION:geführt von Fr. Monica Geeta Sperling\nEintritt Frei ! \nGenaue Uhrzeit und Online-link werden nach der Anmeldung bekanntgegeben.\nAnmeldungen an digkarlsruhe@gmx.de \n 
URL:https://digkarlsruhe.de/event/online-yoga-workshop/
LOCATION:Online
CATEGORIES:Events
END:VEVENT
BEGIN:VEVENT
DTSTART;TZID=UTC:20230429T160000
DTEND;TZID=UTC:20230429T203000
DTSTAMP:20260425T130933
CREATED:20230312T173123Z
LAST-MODIFIED:20230509T132853Z
UID:57-1682784000-1682800200@digkarlsruhe.de
SUMMARY:Indisches Food Festival
DESCRIPTION:
URL:https://digkarlsruhe.de/event/indisches-food-festival/
LOCATION:Indisches Food Festival\, Geschwister-Scholl-Str.2\, Karlsruhe\, 76135\, Deutschland
CATEGORIES:Events
END:VEVENT
END:VCALENDAR