BEGIN:VCALENDAR
VERSION:2.0
PRODID:-//Deutsch Indische Gesellschaft e.V. - ECPv6.15.20//NONSGML v1.0//EN
CALSCALE:GREGORIAN
METHOD:PUBLISH
X-WR-CALNAME:Deutsch Indische Gesellschaft e.V.
X-ORIGINAL-URL:https://digkarlsruhe.de
X-WR-CALDESC:Events for Deutsch Indische Gesellschaft e.V.
REFRESH-INTERVAL;VALUE=DURATION:PT1H
X-Robots-Tag:noindex
X-PUBLISHED-TTL:PT1H
BEGIN:VTIMEZONE
TZID:UTC
BEGIN:STANDARD
TZOFFSETFROM:+0000
TZOFFSETTO:+0000
TZNAME:UTC
DTSTART:20220101T000000
END:STANDARD
END:VTIMEZONE
BEGIN:VTIMEZONE
TZID:Europe/Berlin
BEGIN:DAYLIGHT
TZOFFSETFROM:+0100
TZOFFSETTO:+0200
TZNAME:CEST
DTSTART:20230326T010000
END:DAYLIGHT
BEGIN:STANDARD
TZOFFSETFROM:+0200
TZOFFSETTO:+0100
TZNAME:CET
DTSTART:20231029T010000
END:STANDARD
BEGIN:DAYLIGHT
TZOFFSETFROM:+0100
TZOFFSETTO:+0200
TZNAME:CEST
DTSTART:20240331T010000
END:DAYLIGHT
BEGIN:STANDARD
TZOFFSETFROM:+0200
TZOFFSETTO:+0100
TZNAME:CET
DTSTART:20241027T010000
END:STANDARD
BEGIN:DAYLIGHT
TZOFFSETFROM:+0100
TZOFFSETTO:+0200
TZNAME:CEST
DTSTART:20250330T010000
END:DAYLIGHT
BEGIN:STANDARD
TZOFFSETFROM:+0200
TZOFFSETTO:+0100
TZNAME:CET
DTSTART:20251026T010000
END:STANDARD
END:VTIMEZONE
BEGIN:VTIMEZONE
TZID:Europe/Helsinki
BEGIN:DAYLIGHT
TZOFFSETFROM:+0200
TZOFFSETTO:+0300
TZNAME:EEST
DTSTART:20230326T010000
END:DAYLIGHT
BEGIN:STANDARD
TZOFFSETFROM:+0300
TZOFFSETTO:+0200
TZNAME:EET
DTSTART:20231029T010000
END:STANDARD
BEGIN:DAYLIGHT
TZOFFSETFROM:+0200
TZOFFSETTO:+0300
TZNAME:EEST
DTSTART:20240331T010000
END:DAYLIGHT
BEGIN:STANDARD
TZOFFSETFROM:+0300
TZOFFSETTO:+0200
TZNAME:EET
DTSTART:20241027T010000
END:STANDARD
BEGIN:DAYLIGHT
TZOFFSETFROM:+0200
TZOFFSETTO:+0300
TZNAME:EEST
DTSTART:20250330T010000
END:DAYLIGHT
BEGIN:STANDARD
TZOFFSETFROM:+0300
TZOFFSETTO:+0200
TZNAME:EET
DTSTART:20251026T010000
END:STANDARD
END:VTIMEZONE
BEGIN:VEVENT
DTSTART;TZID=UTC:20241109T190000
DTEND;TZID=UTC:20241109T220000
DTSTAMP:20260422T073202
CREATED:20241011T100104Z
LAST-MODIFIED:20241011T100318Z
UID:1236-1731178800-1731189600@digkarlsruhe.de
SUMMARY:Diwali Indian Music Concert
DESCRIPTION:
URL:https://digkarlsruhe.de/event/diwali-indian-concert/
LOCATION:SÄNGERHALLE\, Untere Straße 44\, Karlsruhe\, 76187\, Germany
CATEGORIES:Events
END:VEVENT
BEGIN:VEVENT
DTSTART;TZID=UTC:20241109T110000
DTEND;TZID=UTC:20241109T170000
DTSTAMP:20260422T073202
CREATED:20241011T095827Z
LAST-MODIFIED:20241011T100302Z
UID:1231-1731150000-1731171600@digkarlsruhe.de
SUMMARY:Diwali 2024!
DESCRIPTION:
URL:https://digkarlsruhe.de/event/diwali-2024/
LOCATION:SÄNGERHALLE\, Untere Straße 44\, Karlsruhe\, 76187\, Germany
END:VEVENT
BEGIN:VEVENT
DTSTART;TZID=UTC:20240928T173000
DTEND;TZID=UTC:20240928T230000
DTSTAMP:20260422T073202
CREATED:20240910T181031Z
LAST-MODIFIED:20240910T183023Z
UID:1214-1727544600-1727564400@digkarlsruhe.de
SUMMARY:Garba Night
DESCRIPTION:  \n  \n  \n  \n  \n  \n  \n  \n  \n  \n  \n  \n  \n  \n  \n  \nTickets:\nDIG Mitglieder & Studenten – 10€\nNichtmitglieder – 18€\nKinder 7 bis 12 Jahre – 8€\nKinder bis 7 Jahre – Frei\nIncluded Indian Vegetarian Dinner \nFür Reservierungen\,\nhttps://evuapp.com/app/6reB \nDeutsche-Indische Gesellschaft Karlsruhe\nIBAN: DE77660501010108371063\nBIC: KARSDE66XXX\nSparkasse Karlsruhe \n 
URL:https://digkarlsruhe.de/event/garba-night/
LOCATION:Aktions- und Zirkusbüro\, Otto-Dullenkopf-Park stja e.V.\, Wolfartsweiererstr. 11\, Karlsruhe\, Baden Württemberg\, 76137\, Deutschland
CATEGORIES:Events
END:VEVENT
BEGIN:VEVENT
DTSTART;TZID=UTC:20240622T183000
DTEND;TZID=UTC:20240622T200000
DTSTAMP:20260422T073202
CREATED:20240513T190106Z
LAST-MODIFIED:20240513T190423Z
UID:1208-1719081000-1719086400@digkarlsruhe.de
SUMMARY:Seminar : Tantra\, Yoga and Black Magic: Where is the spirituality
DESCRIPTION:
URL:https://digkarlsruhe.de/event/seminar-tantra-yoga-and-black-magic-where-is-the-spirituality/
LOCATION:Bürgerzentrum KA Mühlburg e.V.\, Weinbrennerstr. 79A\, Karlsruhe\, 76185
END:VEVENT
BEGIN:VEVENT
DTSTART;TZID=UTC:20240608T120000
DTEND;TZID=UTC:20240608T170000
DTSTAMP:20260422T073202
CREATED:20230322T172923Z
LAST-MODIFIED:20240513T185624Z
UID:763-1717848000-1717866000@digkarlsruhe.de
SUMMARY:Grillfest
DESCRIPTION:Eintritt:\nDIG Mitglieder / Studenten – 8€\nNichtmitglieder – 10€\nKinder bis 6 Jahren – Frei \nBuffetbeitrag (Salat / Kuchen) erwünscht! \nAnmeldungen bis 01.06.24 an digkarlsruhe@gmx.de
URL:https://digkarlsruhe.de/event/grillfest/
LOCATION:ASV Hagsfeld\, An der Tagweide 20\, Karlsruhe\, 76139\, Deutschland
CATEGORIES:Events
END:VEVENT
BEGIN:VEVENT
DTSTART;TZID=Europe/Berlin:20240525T180000
DTEND;TZID=Europe/Berlin:20240525T200000
DTSTAMP:20260422T073202
CREATED:20230312T185905Z
LAST-MODIFIED:20240513T185127Z
UID:93-1716660000-1716667200@digkarlsruhe.de
SUMMARY:Indisches Klassisches Konzert
DESCRIPTION:Flöte Konzert Konzert mit Dr\, Vijayagopal \nEintritt Vorverkauf / Abendkasse:\nDIG Mitglieder / Studenten – 12€ / 15€\nNichtmitglieder – 15€ / 18€\nGruppen bis 5 Personen – 12€/ 15€  \nFür Tickets Vorverkauf  digkarlsruhe@gmx.de
URL:https://digkarlsruhe.de/event/indisches-klassisches-konzert/
LOCATION:Bürgerzentrum KA Mühlburg e.V.\, Weinbrennerstr. 79A\, Karlsruhe\, 76185
CATEGORIES:Events
END:VEVENT
BEGIN:VEVENT
DTSTART;TZID=Europe/Helsinki:20240127T160000
DTEND;TZID=Europe/Helsinki:20240127T180000
DTSTAMP:20260422T073202
CREATED:20240114T104409Z
LAST-MODIFIED:20240114T104555Z
UID:1179-1706371200-1706378400@digkarlsruhe.de
SUMMARY:Republic Day Celebration
DESCRIPTION:DIG e.V Karlsruhe invites you for Republic Day Celebrations
URL:https://digkarlsruhe.de/event/republic-day-celebration/
LOCATION:Bürgerzentrum KA Mühlburg e.V.\, Weinbrennerstr. 79A\, Karlsruhe\, 76185
END:VEVENT
BEGIN:VEVENT
DTSTART;TZID=UTC:20231104T180000
DTEND;TZID=UTC:20231104T220000
DTSTAMP:20260422T073202
CREATED:20230322T173433Z
LAST-MODIFIED:20231030T160215Z
UID:766-1699120800-1699135200@digkarlsruhe.de
SUMMARY:Diwali (Lichterfest)
DESCRIPTION:Tickets:\nDIG Mitgleder & Studenten – 15€\nNichtmitglieder – 20€\nKinder bis 6 Jahre – Frei \nFür Reservierungen\, schreiben Sie an digkarlsruhe@gmx.de
URL:https://digkarlsruhe.de/event/diwali-lichterfest/
LOCATION:Albert Schweitzer Saal\, Reinhold Frank Straße. 48A\, Karlsruhe\, 76133
CATEGORIES:Events
END:VEVENT
BEGIN:VEVENT
DTSTART;TZID=UTC:20231014T170000
DTEND;TZID=UTC:20231014T210000
DTSTAMP:20260422T073202
CREATED:20230322T180318Z
LAST-MODIFIED:20230824T161719Z
UID:776-1697302800-1697317200@digkarlsruhe.de
SUMMARY:Navaratri Festival
DESCRIPTION:Anlässlich von Navaratri\, lasst uns zusammenkommen\, Garba/Dandiya tanzen\, leckeres Essen genießen und zu einem unvergesslichen Abend beitragen! \nTickets:\nDIG Mitglieder / Schüler/Studenten – 10€\nNichtmitglieder – 12€\nKinder bis 6 Jahren – Frei \nFür Reservierungen\, schreiben Sie an digkarlsruhe@gmx.de
URL:https://digkarlsruhe.de/event/navaratri-festival/
LOCATION:Gemeindezentrum St. Michael Pfarrsaal\, Geschwister-Schollstr. 2\, Karlsruhe\, 76135
CATEGORIES:Events
END:VEVENT
BEGIN:VEVENT
DTSTART;VALUE=DATE:20230721
DTEND;VALUE=DATE:20230724
DTSTAMP:20260422T073202
CREATED:20230421T091807Z
LAST-MODIFIED:20230509T131057Z
UID:1015-1689897600-1690156799@digkarlsruhe.de
SUMMARY:India Summer Days
DESCRIPTION:Indien hautnah erleben… \n \nIndische Kultur bei Das Fest 2023 erleben \nWir präsentieren Euch vom 21. bis 23. Juli 2023 im Rahmen von Süddeutschlands größtem Familienfestival DAS FEST die indische Kultur in Form eines indischen Dorfes auf dem Gelände des Aktiv-Spielplatzes in der Günther-Klotz-Anlage. Im Mittelpunkt stehen erneut Kultur\, Kulinarisches\, Yoga sowie zahlreiche Informationsangebote.\nDie India Summer Days finden 2023 unter der Schirmherrschaft von Winfried Kretschmann\, Ministerpräsident des Landes Baden-Württemberg\, statt! \nEINTRITT FREI !\nOrt: Günther-Klotz-Anlage \, Karlsruhe
URL:https://digkarlsruhe.de/event/india-summer-days-2/
LOCATION:Günther-Klotz-Anlage\, Karlsruhe\, 76135
END:VEVENT
BEGIN:VEVENT
DTSTART;TZID=UTC:20230621T183000
DTEND;TZID=UTC:20230621T194500
DTSTAMP:20260422T073202
CREATED:20230618T185141Z
LAST-MODIFIED:20230618T185325Z
UID:1162-1687372200-1687376700@digkarlsruhe.de
SUMMARY:Online Yoga Workshop - Teil 2
DESCRIPTION:geführt von Fr. Monica Geeta Sperling\nEintritt Frei ! \nFür Zoom Link & Anmeldungen: digkarlsruhe@gmx.de
URL:https://digkarlsruhe.de/event/online-yoga-workshop-2/
LOCATION:Online
END:VEVENT
BEGIN:VEVENT
DTSTART;TZID=UTC:20230617T090000
DTEND;TZID=UTC:20230617T101500
DTSTAMP:20260422T073202
CREATED:20230322T172605Z
LAST-MODIFIED:20230618T181146Z
UID:759-1686992400-1686996900@digkarlsruhe.de
SUMMARY:Online Yoga Workshop
DESCRIPTION:geführt von Fr. Monica Geeta Sperling\nEintritt Frei ! \nGenaue Uhrzeit und Online-link werden nach der Anmeldung bekanntgegeben.\nAnmeldungen an digkarlsruhe@gmx.de \n 
URL:https://digkarlsruhe.de/event/online-yoga-workshop/
LOCATION:Online
CATEGORIES:Events
END:VEVENT
BEGIN:VEVENT
DTSTART;TZID=UTC:20230429T160000
DTEND;TZID=UTC:20230429T203000
DTSTAMP:20260422T073202
CREATED:20230312T173123Z
LAST-MODIFIED:20230509T132853Z
UID:57-1682784000-1682800200@digkarlsruhe.de
SUMMARY:Indisches Food Festival
DESCRIPTION:
URL:https://digkarlsruhe.de/event/indisches-food-festival/
LOCATION:Indisches Food Festival\, Geschwister-Scholl-Str.2\, Karlsruhe\, 76135\, Deutschland
CATEGORIES:Events
END:VEVENT
END:VCALENDAR