BEGIN:VCALENDAR
VERSION:2.0
PRODID:-//Deutsch Indische Gesellschaft e.V. - ECPv6.15.20//NONSGML v1.0//EN
CALSCALE:GREGORIAN
METHOD:PUBLISH
X-ORIGINAL-URL:https://digkarlsruhe.de
X-WR-CALDESC:Events for Deutsch Indische Gesellschaft e.V.
REFRESH-INTERVAL;VALUE=DURATION:PT1H
X-Robots-Tag:noindex
X-PUBLISHED-TTL:PT1H
BEGIN:VTIMEZONE
TZID:UTC
BEGIN:STANDARD
TZOFFSETFROM:+0000
TZOFFSETTO:+0000
TZNAME:UTC
DTSTART:20250101T000000
END:STANDARD
END:VTIMEZONE
BEGIN:VEVENT
DTSTART;TZID=UTC:20260307T160000
DTEND;TZID=UTC:20260307T170000
DTSTAMP:20260425T123518
CREATED:20260108T180208Z
LAST-MODIFIED:20260108T182917Z
UID:1417-1772899200-1772902800@digkarlsruhe.de
SUMMARY:Insurance & Support Seminar
DESCRIPTION:Got burning questions about insurance in Germany? 🔥 \nWhether you are a student\, a professional\, or new to the country\, having the right coverage is crucial. Join our upcoming English seminar to get clear\, expert advice. \n✨ Why attend? \n• It’s 100% Online & in English. \n• You can send us your queries in advance so we can answer them live. \n• Learn & Connect with the community. \n🚀 Spots are filling up! Register today via the link in our bio. \n🗓 March 7\, 2026 | 4 PM CET
URL:https://digkarlsruhe.de/event/insurance-support-seminar/
LOCATION:Online
END:VEVENT
END:VCALENDAR